BEGIN:VCALENDAR
VERSION:2.0
PRODID:-//RegenerationMinistries - ECPv6.15.20//NONSGML v1.0//EN
CALSCALE:GREGORIAN
METHOD:PUBLISH
X-ORIGINAL-URL:https://regenerationministries.org
X-WR-CALDESC:Events for RegenerationMinistries
REFRESH-INTERVAL;VALUE=DURATION:PT1H
X-Robots-Tag:noindex
X-PUBLISHED-TTL:PT1H
BEGIN:VTIMEZONE
TZID:America/New_York
BEGIN:DAYLIGHT
TZOFFSETFROM:-0500
TZOFFSETTO:-0400
TZNAME:EDT
DTSTART:20250309T070000
END:DAYLIGHT
BEGIN:STANDARD
TZOFFSETFROM:-0400
TZOFFSETTO:-0500
TZNAME:EST
DTSTART:20251102T060000
END:STANDARD
BEGIN:DAYLIGHT
TZOFFSETFROM:-0500
TZOFFSETTO:-0400
TZNAME:EDT
DTSTART:20260308T070000
END:DAYLIGHT
BEGIN:STANDARD
TZOFFSETFROM:-0400
TZOFFSETTO:-0500
TZNAME:EST
DTSTART:20261101T060000
END:STANDARD
BEGIN:DAYLIGHT
TZOFFSETFROM:-0500
TZOFFSETTO:-0400
TZNAME:EDT
DTSTART:20270314T070000
END:DAYLIGHT
BEGIN:STANDARD
TZOFFSETFROM:-0400
TZOFFSETTO:-0500
TZNAME:EST
DTSTART:20271107T060000
END:STANDARD
END:VTIMEZONE
BEGIN:VEVENT
DTSTART;TZID=America/New_York:20260421T110000
DTEND;TZID=America/New_York:20260421T130000
DTSTAMP:20260422T133458
CREATED:20260310T201456Z
LAST-MODIFIED:20260310T201501Z
UID:10000148-1776769200-1776776400@regenerationministries.org
SUMMARY:Pastor's Luncheon
DESCRIPTION:Pastoring faithfully in the area of sexuality is hard. We want to make it easier.\n\n\n\nYou’re navigating terrain no previous generation of pastors has faced — and you’re largely doing it without a guide. Pornography. Infidelity. The digital world’s effect on sexual behavior. Parenting in a hypersexualized culture. Questions of sexual identity. Regeneration is gathering Baltimore-area pastors quarterly to share what we know\, shoulder some of the load together\, and encourage one another in this work. \n\n\n\nJoin us for lunch and an honest conversation.Tuesdays at 11a | Quarterly | Beginning April 21No competition. No comparison. Just pastors helping pastors.Come connect. Come exhale. We’ll handle lunch.Regeneration’s Church Engagement Initiative exists to equip local churches to hold and teach an orthodox Christian understanding of God’s design for sex and sexuality — while faithfully evangelizing and discipling those who struggle with or have embraced a different vision. \n\n\n\n\n\n\n\n\n\n\n\n\n\nApril 21\, 2026 11:00 AM – 1:00 PM Central Presbyterian 7308 York Rd\, Towson\, MD 21204\n\n\n\n\nFirst Name*(Title not required)\n\n\n\nLast Name*\n\n\n\nCell Phone*RSVP arrives via text message\n\n\n\nEmail*\n\n\n\n\n\nYour information submitted here is for registration purposes only. \nSubmit
URL:https://regenerationministries.org/happening/pastors-luncheon-april26/
CATEGORIES:Pastoral Support
ATTACH;FMTTYPE=image/png:https://regenerationministries.org/wp-content/uploads/2026/03/Pastoral-Support-Heading.png
END:VEVENT
END:VCALENDAR