BEGIN:VCALENDAR
VERSION:2.0
PRODID:-//RegenerationMinistries - ECPv6.15.20//NONSGML v1.0//EN
CALSCALE:GREGORIAN
METHOD:PUBLISH
X-WR-CALNAME:RegenerationMinistries
X-ORIGINAL-URL:https://regenerationministries.org
X-WR-CALDESC:Events for RegenerationMinistries
REFRESH-INTERVAL;VALUE=DURATION:PT1H
X-Robots-Tag:noindex
X-PUBLISHED-TTL:PT1H
BEGIN:VTIMEZONE
TZID:America/New_York
BEGIN:DAYLIGHT
TZOFFSETFROM:-0500
TZOFFSETTO:-0400
TZNAME:EDT
DTSTART:20240310T070000
END:DAYLIGHT
BEGIN:STANDARD
TZOFFSETFROM:-0400
TZOFFSETTO:-0500
TZNAME:EST
DTSTART:20241103T060000
END:STANDARD
BEGIN:DAYLIGHT
TZOFFSETFROM:-0500
TZOFFSETTO:-0400
TZNAME:EDT
DTSTART:20250309T070000
END:DAYLIGHT
BEGIN:STANDARD
TZOFFSETFROM:-0400
TZOFFSETTO:-0500
TZNAME:EST
DTSTART:20251102T060000
END:STANDARD
BEGIN:DAYLIGHT
TZOFFSETFROM:-0500
TZOFFSETTO:-0400
TZNAME:EDT
DTSTART:20260308T070000
END:DAYLIGHT
BEGIN:STANDARD
TZOFFSETFROM:-0400
TZOFFSETTO:-0500
TZNAME:EST
DTSTART:20261101T060000
END:STANDARD
END:VTIMEZONE
BEGIN:VEVENT
DTSTART;TZID=America/New_York:20251110T193000
DTEND;TZID=America/New_York:20251110T210000
DTSTAMP:20260425T232530
CREATED:20251001T161400Z
LAST-MODIFIED:20251001T161406Z
UID:10000018-1762803000-1762808400@regenerationministries.org
SUMMARY:Strong Like Water
DESCRIPTION:You’re Invited! A 6-Week Journey to Healing  \n\n\n\nAre you longing for a space to grow\, heal\, and be transformed alongside other sisters in Christ? We’d love for you to join us for a powerful 6-week small group experience as we journey through “Strong Like Water” by Aundi Kolber—a book that offers a compassionate and empowering framework for true flourishing. \n\n\n\nThis is a safe\, supportive space for just 8 women\, so spots are limited! Be sure to sign up soon to reserve your place. Once you’ve registered and submitted your payment\, we’ll send you the Zoom link to join us. \n\n\n\n  Don’t forget to grab your copy of Strong Like Water—available on Amazon and other booksellers. \n\n\n\nWe can’t wait to walk this journey with you! \n\n\n\n \n\n\n\n\n\nIf you cannot afford the full fee for the Strong Like Water Group\, you may request a need-based scholarship here. We ask that you be prayerful as you consider your need and certify that all responses are true.Lastly\, this is a time-sensitive process as approval is required at least 48 hours before a group begins. After registering\, you will be redirected to complete payment.
URL:https://regenerationministries.org/happening/group_68c062527c86f-5/
CATEGORIES:Support Groups>Women's Group
END:VEVENT
BEGIN:VEVENT
DTSTART;TZID=America/New_York:20251111T120000
DTEND;TZID=America/New_York:20251111T133000
DTSTAMP:20260425T232530
CREATED:20251001T161400Z
LAST-MODIFIED:20251001T161406Z
UID:10000017-1762862400-1762867800@regenerationministries.org
SUMMARY:Try Softer
DESCRIPTION:Try Softer\, it’s focused on deeper work in post trauma growth. This will be a 6 week group where we will continue to grow in understanding ourselves and the pain we have been through with supportive friends and a caring community. We will keep working through the lens of betrayal trauma but with our focus on Post Traumatic Growth. \n\n\n\nWe will incorporate topics such as: \n\n\n\nKnowing and setting your emotional and relational boundaries  \n\n\n\nMaking sense of the difficult experiences you’ve had \n\n\n\nMoving through emotions rather than get stuck by them \n\n\n\nHow to grow in self-compassion and quiet your inner critic. \n\n\n\n\n\nIf you cannot afford the full fee for Try Softer\, you may request a need-based scholarship here. We ask that you be prayerful as you consider your need and certify that all responses are true.Lastly\, this is a time-sensitive process as approval is required at least 48 hours before a group begins. After registering\, you will be redirected to complete payment.
URL:https://regenerationministries.org/happening/group_68c062527c86f-4/
CATEGORIES:Support Groups>Wives Group
END:VEVENT
END:VCALENDAR