BEGIN:VCALENDAR
VERSION:2.0
PRODID:-//RegenerationMinistries - ECPv6.15.20//NONSGML v1.0//EN
CALSCALE:GREGORIAN
METHOD:PUBLISH
X-ORIGINAL-URL:https://regenerationministries.org
X-WR-CALDESC:Events for RegenerationMinistries
REFRESH-INTERVAL;VALUE=DURATION:PT1H
X-Robots-Tag:noindex
X-PUBLISHED-TTL:PT1H
BEGIN:VTIMEZONE
TZID:America/New_York
BEGIN:DAYLIGHT
TZOFFSETFROM:-0500
TZOFFSETTO:-0400
TZNAME:EDT
DTSTART:20250309T070000
END:DAYLIGHT
BEGIN:STANDARD
TZOFFSETFROM:-0400
TZOFFSETTO:-0500
TZNAME:EST
DTSTART:20251102T060000
END:STANDARD
BEGIN:DAYLIGHT
TZOFFSETFROM:-0500
TZOFFSETTO:-0400
TZNAME:EDT
DTSTART:20260308T070000
END:DAYLIGHT
BEGIN:STANDARD
TZOFFSETFROM:-0400
TZOFFSETTO:-0500
TZNAME:EST
DTSTART:20261101T060000
END:STANDARD
BEGIN:DAYLIGHT
TZOFFSETFROM:-0500
TZOFFSETTO:-0400
TZNAME:EDT
DTSTART:20270314T070000
END:DAYLIGHT
BEGIN:STANDARD
TZOFFSETFROM:-0400
TZOFFSETTO:-0500
TZNAME:EST
DTSTART:20271107T060000
END:STANDARD
END:VTIMEZONE
BEGIN:VEVENT
DTSTART;TZID=America/New_York:20260126T193000
DTEND;TZID=America/New_York:20260126T210000
DTSTAMP:20260422T025112
CREATED:20251001T161408Z
LAST-MODIFIED:20260107T003320Z
UID:10000020-1769455800-1769461200@regenerationministries.org
SUMMARY:Women's Sexual Integrity Groups (Oasis)
DESCRIPTION:Are you a woman facing challenges with unwanted sexual behavior? If you’re looking for a safe and supportive environment to share your journey with fellow sojourners\, we invite you to join Oasis. This is an 8-week course led by compassionate coaches from Regeneration’s women’s team. \n\n\n\nThe course includes Scripture\, reading\, videos\, reflection questions\, and access to other resources that provide additional support. \n\n\n\nWith Oasis™\, you’ll find a community of women who understand and are ready to walk alongside you as you embark on your path to wholeness. We are here to support you every step of the way. \n\n\n\nJanuary 26 – March 9\,2026 \n\n\n\n \n\n\n\n\n\n\n\n\n\nLoading…
URL:https://regenerationministries.org/happening/womens-sexual-integrity-group/
CATEGORIES:Support Groups>Women's Group
ATTACH;FMTTYPE=image/png:https://regenerationministries.org/wp-content/uploads/2025/09/Oasis.png
END:VEVENT
BEGIN:VEVENT
DTSTART;TZID=America/New_York:20260128T190000
DTEND;TZID=America/New_York:20260128T203000
DTSTAMP:20260422T025112
CREATED:20251001T161408Z
LAST-MODIFIED:20260107T012626Z
UID:10000019-1769626800-1769632200@regenerationministries.org
SUMMARY:Wives Support Group (Compass)
DESCRIPTION:Are you a woman facing partner betrayal. If you’re looking for a safe and supportive environment to share your journey\, we invite you to join Compass. This is an 8-week group led by compassionate coaches from Regeneration’s women’s team. \n\n\n\nThe group walks through the Compass™ course which includes Scripture\, education\, videos\, reflection questions\, and access to other resources that provide additional support. \n\n\n\nAt a Compass Coaching Group you’ll find a community of women who understand and are ready to walk alongside you as you embark on your path to wholeness. We are here to support you every step of the way. \n\n\n\nThis group will run from Wednesday\, January 28th – March 18th\, 2026 \n\n\n\n*Space is limited to 7 women per group\, so register today*\n\n\n\n\n\n\n\nLoading…
URL:https://regenerationministries.org/happening/wives-support-group/
CATEGORIES:Spousal Betrayal|Support Groups>Wives Group|Support Groups>Women's Group,Support Groups,Wives Group
ATTACH;FMTTYPE=image/png:https://regenerationministries.org/wp-content/uploads/2025/09/Compass.png
END:VEVENT
END:VCALENDAR